BEGIN:VCALENDAR
VERSION:2.0
PRODID:-//wp-events-plugin.com//7.2.3.1//EN
TZID:Europe/Madrid
X-WR-TIMEZONE:Europe/Madrid
BEGIN:VEVENT
UID:300@llavorsdevincle.org
DTSTART;TZID=Europe/Madrid:20161129T183000
DTEND;TZID=Europe/Madrid:20161129T200000
DTSTAMP:20161007T201501Z
URL:https://llavorsdevincle.org/activitats/assemblea-general-lldv/
SUMMARY:Assemblea General 2016 LldV
DESCRIPTION:Segona Assemblea General de LldV. Aquest any es faran votacions
  per la  renovació de junta i es tractaran temes importats de la nostra
  associació. Consulteu l’ordre del dia al web.\n\nEs prega l’assistè
 ncia de tots els socis.\n\nLloc: Centre Cívic Pardinyes Taller 7 - c/ San
 t Pere Claver\, 5 - Lleida\n\nInfants benvinguts\n\nVeure ordre del dia\n\
 n&nbsp\;\n\n&nbsp\;\n\n&nbsp\;
ATTACH;FMTTYPE=image/jpeg:https://llavorsdevincle.org/wp-content/uploads/2
 016/10/asamblea2016.png
CATEGORIES:Activitat LldV
LOCATION:Orverpard\, C/ Sant Pere Claver 1\, Lleida \, Lleida \, 25005\, Es
 panya
GEO:41.6262407;0.637945899999977
X-APPLE-STRUCTURED-LOCATION;VALUE=URI;X-ADDRESS=C/ Sant Pere Claver 1\, Lle
 ida \, Lleida \, 25005\, Espanya;X-APPLE-RADIUS=100;X-TITLE=Orverpard:geo:
 41.6262407,0.637945899999977
END:VEVENT
BEGIN:VTIMEZONE
TZID:Europe/Madrid
X-LIC-LOCATION:Europe/Madrid
BEGIN:STANDARD
DTSTART:20161030T020000
TZOFFSETFROM:+0200
TZOFFSETTO:+0100
TZNAME:CET
END:STANDARD
END:VTIMEZONE
END:VCALENDAR