BEGIN:VCALENDAR
VERSION:2.0
PRODID:-//wp-events-plugin.com//7.2.3.1//EN
TZID:Europe/Madrid
X-WR-TIMEZONE:Europe/Madrid
BEGIN:VEVENT
UID:969@llavorsdevincle.org
DTSTART;TZID=Europe/Madrid:20220118T190000
DTEND;TZID=Europe/Madrid:20220118T203000
DTSTAMP:20220109T140452Z
URL:https://llavorsdevincle.org/activitats/com-millorar-la-relacio-amb-ado
 lescents-i-preadolescents-segona-edicio/
SUMMARY:Com millorar la relació amb adolescents i preadolescents (segona e
 dició)
DESCRIPTION:A càrrec de Susana Piedra Zorrilla\, psicòloga i tècnica en 
 mediació escolar i intergeneracional. UNAF
ATTACH;FMTTYPE=image/jpeg:https://llavorsdevincle.org/wp-content/uploads/2
 017/12/1641233208.jpg
CATEGORIES:Activitat LldV
END:VEVENT
BEGIN:VTIMEZONE
TZID:Europe/Madrid
X-LIC-LOCATION:Europe/Madrid
BEGIN:STANDARD
DTSTART:20211031T020000
TZOFFSETFROM:+0200
TZOFFSETTO:+0100
TZNAME:CET
END:STANDARD
END:VTIMEZONE
END:VCALENDAR