BEGIN:VCALENDAR
VERSION:2.0
PRODID:-//wp-events-plugin.com//7.2.3.1//EN
TZID:Europe/Madrid
X-WR-TIMEZONE:Europe/Madrid
BEGIN:VEVENT
UID:1090@llavorsdevincle.org
DTSTART;TZID=Europe/Madrid:20260512T180000
DTEND;TZID=Europe/Madrid:20260512T190000
DTSTAMP:20260420T180319Z
URL:https://llavorsdevincle.org/activitats/el-postpart-parlem-ne/
SUMMARY:El postpart\, parlem-ne
DESCRIPTION:Acompanya’ns en un espai de reflexió i suport sobre la vivè
 ncia després del part.
ATTACH;FMTTYPE=image/jpeg:https://llavorsdevincle.org/wp-content/uploads/2
 026/04/zumba-Llavor-crianca-1.png
CATEGORIES:Activitat LldV
LOCATION:La Baula (Ateneu Cooperatiu)\, c/ Nord 4\, Lleida\, Lleida\, 25007
 \, Espanya
GEO:41.6187517;0.6324397999999292
X-APPLE-STRUCTURED-LOCATION;VALUE=URI;X-ADDRESS=c/ Nord 4\, Lleida\, Lleida
 \, 25007\, Espanya;X-APPLE-RADIUS=100;X-TITLE=La Baula (Ateneu Cooperatiu)
 :geo:41.6187517,0.6324397999999292
END:VEVENT
BEGIN:VTIMEZONE
TZID:Europe/Madrid
X-LIC-LOCATION:Europe/Madrid
BEGIN:DAYLIGHT
DTSTART:20260329T030000
TZOFFSETFROM:+0100
TZOFFSETTO:+0200
TZNAME:CEST
END:DAYLIGHT
END:VTIMEZONE
END:VCALENDAR