BEGIN:VCALENDAR
VERSION:2.0
PRODID:-//wp-events-plugin.com//7.2.3.1//EN
TZID:Europe/Madrid
X-WR-TIMEZONE:Europe/Madrid
BEGIN:VEVENT
UID:166@llavorsdevincle.org
DTSTART;TZID=Europe/Madrid:20160415T110000
DTEND;TZID=Europe/Madrid:20160415T123000
DTSTAMP:20160331T124049Z
URL:https://llavorsdevincle.org/activitats/grup-crianca-lldv-6/
SUMMARY:Grup de Criança LldV
DESCRIPTION:Vine a compartir experiències de criança\, un espai per ajunt
 ar-nos\, compartir i fer Tribu!\n\nPodem tractar els temes de l’escola b
 ressol\, infantil i les inquietuds i neguits que apareguin.\n\nUs hi esper
 em!\n\n
ATTACH;FMTTYPE=image/jpeg:https://llavorsdevincle.org/wp-content/uploads/2
 016/03/160415-Criança.jpg
CATEGORIES:Activitat LldV
LOCATION:Centre Cívic de la Mariola\, C/Artur Mor\, 1\, Lleida\, Lleida\, 
 25003\, Espanya
GEO:41.612758;0.6113771999999926
X-APPLE-STRUCTURED-LOCATION;VALUE=URI;X-ADDRESS=C/Artur Mor\, 1\, Lleida\, 
 Lleida\, 25003\, Espanya;X-APPLE-RADIUS=100;X-TITLE=Centre Cívic de la Ma
 riola:geo:41.612758,0.6113771999999926
END:VEVENT
BEGIN:VTIMEZONE
TZID:Europe/Madrid
X-LIC-LOCATION:Europe/Madrid
BEGIN:DAYLIGHT
DTSTART:20160327T030000
TZOFFSETFROM:+0100
TZOFFSETTO:+0200
TZNAME:CEST
END:DAYLIGHT
END:VTIMEZONE
END:VCALENDAR