BEGIN:VCALENDAR
VERSION:2.0
PRODID:-//wp-events-plugin.com//7.2.3.1//EN
TZID:Europe/Madrid
X-WR-TIMEZONE:Europe/Madrid
BEGIN:VEVENT
UID:1083@llavorsdevincle.org
DTSTART;TZID=Europe/Madrid:20260228T110000
DTEND;TZID=Europe/Madrid:20260228T130000
DTSTAMP:20260211T174637Z
URL:https://llavorsdevincle.org/activitats/i-trobada-llavor-families-del-2
 026/
SUMMARY:I Trobada Llavor Families del 2026
DESCRIPTION:Si el temps ens acompanya\, ens trobarem als Camps Elisis per j
 ugar\, riure i compartir un matí ple de màgia en família.\n\n
ATTACH;FMTTYPE=image/jpeg:https://llavorsdevincle.org/wp-content/uploads/2
 026/02/a5091cbc-ee63-4ec9-afd5-b529f2a3fa7d.jpg
CATEGORIES:Activitat LldV
LOCATION:Camps Elisis\, Plaça Bores\, Lleia\, Lleida\, 25001\, Espanya
GEO:41.6138145;0.6297064999999975
X-APPLE-STRUCTURED-LOCATION;VALUE=URI;X-ADDRESS=Plaça Bores\, Lleia\, Llei
 da\, 25001\, Espanya;X-APPLE-RADIUS=100;X-TITLE=Camps Elisis:geo:41.613814
 5,0.6297064999999975
END:VEVENT
BEGIN:VTIMEZONE
TZID:Europe/Madrid
X-LIC-LOCATION:Europe/Madrid
BEGIN:STANDARD
DTSTART:20251026T020000
TZOFFSETFROM:+0200
TZOFFSETTO:+0100
TZNAME:CET
END:STANDARD
END:VTIMEZONE
END:VCALENDAR