BEGIN:VCALENDAR
VERSION:2.0
PRODID:-//wp-events-plugin.com//7.2.3.1//EN
TZID:Europe/Madrid
X-WR-TIMEZONE:Europe/Madrid
BEGIN:VEVENT
UID:130@llavorsdevincle.org
DTSTART;TZID=Europe/Madrid:20160314T180000
DTEND;TZID=Europe/Madrid:20160314T200000
DTSTAMP:20160304T211727Z
URL:https://llavorsdevincle.org/activitats/presentacio-llibre-otro-mundo-e
 s-posible-mediante-la-crianza-con-apego/
SUMMARY:Presentació Llibre "Otro mundo es posible mediante la crianza con 
 apego"
DESCRIPTION:El dilluns\, 14 de març tindrà lloc la Quarta Presentació de
 l Llibre "Otro mundo es posible mediante la crianza con apego" que realitz
 arà la mateixa autora\, Sara Ribot amb l'acompanyament de la mare i psic
 òloga Mònica Ruíz de Tu Espacio Psicológico.\n\n\n&nbsp\;\n\nAquest ll
 ibre és un recull d'informació ben redactada i sintetitzada sobre la cri
 ança amb "apego" i les seves pràctiques més habituals com el sistema B
 aby Led Weaning\, el collit o el porteig ergonòmic\, entre d'altres temes
  quotidians que ens trobem durant tota l'etapa de la maternitat \, paterni
 tat i la criança. Des de la lactància materna fins com afrontar les rebe
 queries i el somni de la manera més respectuosa i conscient.\n\n&nbsp\;\n
 \n[caption id="attachment_6341" align="alignnone" width="960"] Sara Ribot 
 - Otro mundo es posible mediante la crianza con apego[/caption]\n\n\n
ATTACH;FMTTYPE=image/jpeg:https://llavorsdevincle.org/wp-content/uploads/2
 016/02/Presentació-Sara-Ribot-copia1.jpg
CATEGORIES:Activitat LldV
LOCATION:Biblioteca Pública de Lleida\, Rambla d'Aragó\, 10\, Lleida\, Ll
 eida\, 25002\, Espanya
GEO:41.6134978;0.6201992999999675
X-APPLE-STRUCTURED-LOCATION;VALUE=URI;X-ADDRESS=Rambla d'Aragó\, 10\, Llei
 da\, Lleida\, 25002\, Espanya;X-APPLE-RADIUS=100;X-TITLE=Biblioteca Públi
 ca de Lleida:geo:41.6134978,0.6201992999999675
END:VEVENT
BEGIN:VTIMEZONE
TZID:Europe/Madrid
X-LIC-LOCATION:Europe/Madrid
BEGIN:STANDARD
DTSTART:20151025T020000
TZOFFSETFROM:+0200
TZOFFSETTO:+0100
TZNAME:CET
END:STANDARD
END:VTIMEZONE
END:VCALENDAR